BEGIN:VCALENDAR
VERSION:2.0
PRODID:-//DBHIDS - ECPv6.15.20//NONSGML v1.0//EN
CALSCALE:GREGORIAN
METHOD:PUBLISH
X-ORIGINAL-URL:https://dbhids.org
X-WR-CALDESC:Events for DBHIDS
REFRESH-INTERVAL;VALUE=DURATION:PT1H
X-Robots-Tag:noindex
X-PUBLISHED-TTL:PT1H
BEGIN:VTIMEZONE
TZID:America/New_York
BEGIN:DAYLIGHT
TZOFFSETFROM:-0500
TZOFFSETTO:-0400
TZNAME:EDT
DTSTART:20240310T070000
END:DAYLIGHT
BEGIN:STANDARD
TZOFFSETFROM:-0400
TZOFFSETTO:-0500
TZNAME:EST
DTSTART:20241103T060000
END:STANDARD
BEGIN:DAYLIGHT
TZOFFSETFROM:-0500
TZOFFSETTO:-0400
TZNAME:EDT
DTSTART:20250309T070000
END:DAYLIGHT
BEGIN:STANDARD
TZOFFSETFROM:-0400
TZOFFSETTO:-0500
TZNAME:EST
DTSTART:20251102T060000
END:STANDARD
BEGIN:DAYLIGHT
TZOFFSETFROM:-0500
TZOFFSETTO:-0400
TZNAME:EDT
DTSTART:20260308T070000
END:DAYLIGHT
BEGIN:STANDARD
TZOFFSETFROM:-0400
TZOFFSETTO:-0500
TZNAME:EST
DTSTART:20261101T060000
END:STANDARD
END:VTIMEZONE
BEGIN:VEVENT
DTSTART;TZID=America/New_York:20250926T090000
DTEND;TZID=America/New_York:20250926T120000
DTSTAMP:20260420T074219
CREATED:20250617T160644Z
LAST-MODIFIED:20250617T160644Z
UID:10000862-1758877200-1758888000@dbhids.org
SUMMARY:25th annual Points of Transformation Awards
DESCRIPTION:The Points of Transformation Awards provide DBHIDS an opportunity to recognize direct support staff in provider organizations who have served as models of excellence who value the growth and achievement of those served and have committed their careers to supporting people with intellectual disabilities. Nominees work in the Philadelphia intellectual disability services network in Philadelphia. \nCheck back for further details.
URL:https://dbhids.org/event/25th-annual-points-of-transformation-awards/
LOCATION:Live Hotel\, 900 Packer Ave.\, Philadelphia\, Pa.\, 19148
CATEGORIES:IDS - Division of Intellectual disAbility Services
END:VEVENT
BEGIN:VEVENT
DTSTART;TZID=America/New_York:20250516T090000
DTEND;TZID=America/New_York:20250516T150000
DTSTAMP:20260420T074219
CREATED:20250320T164033Z
LAST-MODIFIED:20250320T164356Z
UID:10000813-1747386000-1747407600@dbhids.org
SUMMARY:33rd annual Brighter Futures Awards
DESCRIPTION:The DBHIDS Division of Intellectual disAbility Services and its Public Awareness Committee are pleased to announce the winners of the 33rd annual “My City\, My Place” Brighter Futures Awards. \nJoin us for a day of celebration and learning together. Morning learning sessions will be available as well as a resource area with exhibit tables\, artists\, and entertainment. \nStay for the luncheon where we will honor all nominees\, honorable mention winners\, as well as awardees\, and special guests. The Mistress of Ceremonies will be Loraine Ballard-Morrill of iHeartMedia. \nNominees are community members or groups who make a difference in others’ lives and support individuals registered with Philadelphia Intellectual disAbility Services. \nThe Brighter Futures Awards are for individuals from all walks of life: neighbors\, people with disabilities\, teachers\, friends\, family\, employers\, co-workers\, spiritual leaders\, civic groups\, organizations\, self-advocates\, medical professionals\, political leaders\, and business owners. \nCLICK FOR MORE INFORMATION
URL:https://dbhids.org/event/33rd-annual-brighter-futures-awards/
LOCATION:Live Hotel\, 900 Packer Ave.\, Philadelphia\, Pa.\, 19148
CATEGORIES:IDS - Division of Intellectual disAbility Services
ATTACH;FMTTYPE=image/jpeg:https://dbhids.org/wp-content/uploads/2025/03/brighter-futures-2025-scaled.jpg
END:VEVENT
END:VCALENDAR