BEGIN:VCALENDAR
VERSION:2.0
PRODID:-//DBHIDS - ECPv6.15.20//NONSGML v1.0//EN
CALSCALE:GREGORIAN
METHOD:PUBLISH
X-ORIGINAL-URL:https://dbhids.org
X-WR-CALDESC:Events for DBHIDS
REFRESH-INTERVAL;VALUE=DURATION:PT1H
X-Robots-Tag:noindex
X-PUBLISHED-TTL:PT1H
BEGIN:VTIMEZONE
TZID:America/New_York
BEGIN:DAYLIGHT
TZOFFSETFROM:-0500
TZOFFSETTO:-0400
TZNAME:EDT
DTSTART:20240310T070000
END:DAYLIGHT
BEGIN:STANDARD
TZOFFSETFROM:-0400
TZOFFSETTO:-0500
TZNAME:EST
DTSTART:20241103T060000
END:STANDARD
BEGIN:DAYLIGHT
TZOFFSETFROM:-0500
TZOFFSETTO:-0400
TZNAME:EDT
DTSTART:20250309T070000
END:DAYLIGHT
BEGIN:STANDARD
TZOFFSETFROM:-0400
TZOFFSETTO:-0500
TZNAME:EST
DTSTART:20251102T060000
END:STANDARD
BEGIN:DAYLIGHT
TZOFFSETFROM:-0500
TZOFFSETTO:-0400
TZNAME:EDT
DTSTART:20260308T070000
END:DAYLIGHT
BEGIN:STANDARD
TZOFFSETFROM:-0400
TZOFFSETTO:-0500
TZNAME:EST
DTSTART:20261101T060000
END:STANDARD
BEGIN:DAYLIGHT
TZOFFSETFROM:-0500
TZOFFSETTO:-0400
TZNAME:EDT
DTSTART:20270314T070000
END:DAYLIGHT
BEGIN:STANDARD
TZOFFSETFROM:-0400
TZOFFSETTO:-0500
TZNAME:EST
DTSTART:20271107T060000
END:STANDARD
END:VTIMEZONE
BEGIN:VEVENT
DTSTART;TZID=America/New_York:20260122T180000
DTEND;TZID=America/New_York:20260122T193000
DTSTAMP:20260421T070935
CREATED:20260105T155047Z
LAST-MODIFIED:20260105T155047Z
UID:10001004-1769104800-1769110200@dbhids.org
SUMMARY:DBHIDS Engaging Males of Color - The Weight of the Crown: The Silent Battles of Leadership
DESCRIPTION:Please join the DBHIDS’ Engaging Males of Color (EMOC) initiative for “The Weight of the Crown: The Silent Battles of Leadership.” \nThis in-person event will feature a panel conversation with dynamic leaders and create space for reflection\, connection\, and honest dialogue. Leadership is often celebrated for its victories\, but rarely do we acknowledge the weight it carries. \n“The Weight of the Crown” invites attendees to pause\, reflect\, and connect with others who understand that leadership is not just about titles\, it is about endurance\, vulnerability and truth. The discussion will explore the unseen pressures of leadership\, particularly for males of color who shoulder expectations from every direction. \nTogether\, we will talk about how to lead without losing ourselves and how to build resilience and reclaim peace in the process. \nCLICK TO REGISTER
URL:https://dbhids.org/event/dbhids-engaging-males-of-color-the-weight-of-the-crown-the-silent-battles-of-leadership/
LOCATION:Free Library of Philadelphia\, Parkway Central Library\, Skyline Room\, 1901 Vine St\,\, Philadelphia\, PA\, 19103
CATEGORIES:EMOC
ORGANIZER;CN="DBHIDS Engaging Males of Color (EMOC)":MAILTO:emoc@phila.gov
END:VEVENT
BEGIN:VEVENT
DTSTART;TZID=America/New_York:20251119T100000
DTEND;TZID=America/New_York:20251119T140000
DTSTAMP:20260421T070935
CREATED:20251030T151426Z
LAST-MODIFIED:20251103T160536Z
UID:10000983-1763546400-1763560800@dbhids.org
SUMMARY:International Men's Day 2025
DESCRIPTION:In recognition of International Men’s Day\, DBHIDS’ Engaging Males of Color initiative invites ALL to a meaningful gathering dedicated to supporting men’s mental health and well-being. Join us from 10 a.m. to 2 p.m. Nov. 19 at the Behavioral Health Training and Education Network (BHTEN) at 520 Delaware Ave.\, Philadelphia 19123. \nThis event will feature a dynamic keynote speaker and three interactive breakout sessions designed to educate\, empower\, and equip participants with tools for healing and resilience: \n\nSupporting Men’s Mental Health – Exploring approaches to emotional wellness and support.\nFatherhood and Mental Well-being – Understanding the emotional landscape of fatherhood and building balance through connection and care.\nCreating a Crisis Response Plan (Introduction to Wellness Recovery Action Plans (WRAP) Session) – Developing personalized strategies for maintaining wellness and managing crisis moments.\n\nTogether\, we will affirm men’s experiences\, strengthen community\, and advance the shared vision of hope\, healing\, and zero male suicide. \nCLICK TO REGISTER (in-person) \nCLICK TO REGISTER (webinar/virtual)
URL:https://dbhids.org/event/international-mens-day-2025/
LOCATION:Behavioral Health Training and Education Network\, 520 Delaware Ave.\, Philadelphia\, 19123\, United States
CATEGORIES:EMOC
ORGANIZER;CN="DBHIDS Engaging Males of Color (EMOC)":MAILTO:emoc@phila.gov
END:VEVENT
BEGIN:VEVENT
DTSTART;TZID=America/New_York:20251018T110000
DTEND;TZID=America/New_York:20251018T140000
DTSTAMP:20260421T070935
CREATED:20250919T192918Z
LAST-MODIFIED:20250919T192918Z
UID:10000966-1760785200-1760796000@dbhids.org
SUMMARY:DBHIDS Engaging Males of Color Health Fair
DESCRIPTION:The EMOC Health Fair aims to create a culturally affirming\, safe\, and empowering environment for males of color to access mental health resources\, physical fitness tools\, receive holistic wellness education\, and obtain free health screenings. \nThis health fair is a crucial step in raising awareness of the health disparities that disproportionately impact males of color and in fostering trust between communities of color and healthcare systems. \nResources. Food. Community Conversation. \nCLICK TO REGISTER
URL:https://dbhids.org/event/dbhids-engaging-males-of-color-health-fair/
LOCATION:Men of Courage\, 4821 Germantown Ave\,\, Philadelphia\, PA\, 19144
CATEGORIES:DEI,EMOC,Planning Innovation
ORGANIZER;CN="DBHIDS Engaging Males of Color (EMOC)":MAILTO:emoc@phila.gov
END:VEVENT
BEGIN:VEVENT
DTSTART;TZID=America/New_York:20250626T083000
DTEND;TZID=America/New_York:20250626T130000
DTSTAMP:20260421T070935
CREATED:20250530T182645Z
LAST-MODIFIED:20250530T182645Z
UID:10000851-1750926600-1750942800@dbhids.org
SUMMARY:Migration in the 21st Century: Collective Community Healing and Sustainability
DESCRIPTION:In honor of Immigrant Heritage Month\, the City of Philadelphia Department of Behavioral Health and Intellectual disAbility Services (DBHIDS) DEI Language Access Subcommittee and key stakeholders proudly present the next installment of the annual educational series\, Migration in the 21st Century. \nThis year’s session\, Collective Community Healing and Sustainability\, will examine the immigrant experience and explore how community gardens and cultural activities serve as vital tools for healing\, connection\, and intergenerational wellness among immigrant and refugee communities. \nCLICK TO REGISTER
URL:https://dbhids.org/event/migration-in-the-21st-century-collective-community-healing-and-sustainability/
LOCATION:801 Market Street\, Philadelphia\, PA 19107\, 801 Market Street\, 11th Floor\, Philadelphia\, 19107
CATEGORIES:DEI
END:VEVENT
BEGIN:VEVENT
DTSTART;TZID=America/New_York:20250617T190000
DTEND;TZID=America/New_York:20250617T203000
DTSTAMP:20260421T070935
CREATED:20250530T163311Z
LAST-MODIFIED:20250530T163311Z
UID:10000850-1750186800-1750192200@dbhids.org
SUMMARY:Beyond Expectations: Reclaiming Love – Self\, Brotherhood\, and Community
DESCRIPTION:Beyond Expectations: Reclaiming Love – Self\, Brotherhood\, and Community is a powerful storytelling event hosted by DBHIDS Engaging Males of Color (EMOC) in collaboration with First Person Arts. \nIn a world that often defines men and boys of color by limits rather than potential\, this evening is a radical act of truth-telling\, healing\, and reclamation. Through the transformative art of storytelling\, men of color and community members will share lived experiences centered around three interconnected forms of love: self-love\, love for your brother\, and love for our community. \nThis is not just an event\, it is a gathering of the village. We come together to explore what truly means to love ourselves in a society that often teaches us not to. We affirm the bonds of brotherhood that help us carry one another through struggle and triumph. And we ask the village: how do we love our children\, especially our boys\, so they feel seen\, valued\, and protected? We ground this gathering in the wisdom of the African proverb: “If the child does not feel the warmth of the village\, he will burn it down just to feel it”. This event is not just a Call to Action but a Call to LOVE. \nCLICK TO REGISTER
URL:https://dbhids.org/event/beyond-expectations-reclaiming-love-self-brotherhood-and-community/
LOCATION:Fringe Arts\, 140 N Christopher Columbus Blvd\,\, Philadelphia\, PA\, 19106
CATEGORIES:EMOC
END:VEVENT
END:VCALENDAR