BEGIN:VCALENDAR
VERSION:2.0
PRODID:-//DBHIDS - ECPv6.15.20//NONSGML v1.0//EN
CALSCALE:GREGORIAN
METHOD:PUBLISH
X-ORIGINAL-URL:https://dbhids.org
X-WR-CALDESC:Events for DBHIDS
REFRESH-INTERVAL;VALUE=DURATION:PT1H
X-Robots-Tag:noindex
X-PUBLISHED-TTL:PT1H
BEGIN:VTIMEZONE
TZID:America/New_York
BEGIN:DAYLIGHT
TZOFFSETFROM:-0500
TZOFFSETTO:-0400
TZNAME:EDT
DTSTART:20240310T070000
END:DAYLIGHT
BEGIN:STANDARD
TZOFFSETFROM:-0400
TZOFFSETTO:-0500
TZNAME:EST
DTSTART:20241103T060000
END:STANDARD
BEGIN:DAYLIGHT
TZOFFSETFROM:-0500
TZOFFSETTO:-0400
TZNAME:EDT
DTSTART:20250309T070000
END:DAYLIGHT
BEGIN:STANDARD
TZOFFSETFROM:-0400
TZOFFSETTO:-0500
TZNAME:EST
DTSTART:20251102T060000
END:STANDARD
BEGIN:DAYLIGHT
TZOFFSETFROM:-0500
TZOFFSETTO:-0400
TZNAME:EDT
DTSTART:20260308T070000
END:DAYLIGHT
BEGIN:STANDARD
TZOFFSETFROM:-0400
TZOFFSETTO:-0500
TZNAME:EST
DTSTART:20261101T060000
END:STANDARD
END:VTIMEZONE
BEGIN:VEVENT
DTSTART;TZID=America/New_York:20251119T100000
DTEND;TZID=America/New_York:20251119T140000
DTSTAMP:20260423T012324
CREATED:20251030T151426Z
LAST-MODIFIED:20251103T160536Z
UID:10000983-1763546400-1763560800@dbhids.org
SUMMARY:International Men's Day 2025
DESCRIPTION:In recognition of International Men’s Day\, DBHIDS’ Engaging Males of Color initiative invites ALL to a meaningful gathering dedicated to supporting men’s mental health and well-being. Join us from 10 a.m. to 2 p.m. Nov. 19 at the Behavioral Health Training and Education Network (BHTEN) at 520 Delaware Ave.\, Philadelphia 19123. \nThis event will feature a dynamic keynote speaker and three interactive breakout sessions designed to educate\, empower\, and equip participants with tools for healing and resilience: \n\nSupporting Men’s Mental Health – Exploring approaches to emotional wellness and support.\nFatherhood and Mental Well-being – Understanding the emotional landscape of fatherhood and building balance through connection and care.\nCreating a Crisis Response Plan (Introduction to Wellness Recovery Action Plans (WRAP) Session) – Developing personalized strategies for maintaining wellness and managing crisis moments.\n\nTogether\, we will affirm men’s experiences\, strengthen community\, and advance the shared vision of hope\, healing\, and zero male suicide. \nCLICK TO REGISTER (in-person) \nCLICK TO REGISTER (webinar/virtual)
URL:https://dbhids.org/event/international-mens-day-2025/
LOCATION:Behavioral Health Training and Education Network\, 520 Delaware Ave.\, Philadelphia\, 19123\, United States
CATEGORIES:EMOC
ORGANIZER;CN="DBHIDS Engaging Males of Color (EMOC)":MAILTO:emoc@phila.gov
END:VEVENT
END:VCALENDAR