BEGIN:VCALENDAR
VERSION:2.0
PRODID:-//DBHIDS - ECPv6.15.20//NONSGML v1.0//EN
CALSCALE:GREGORIAN
METHOD:PUBLISH
X-ORIGINAL-URL:https://dbhids.org
X-WR-CALDESC:Events for DBHIDS
REFRESH-INTERVAL;VALUE=DURATION:PT1H
X-Robots-Tag:noindex
X-PUBLISHED-TTL:PT1H
BEGIN:VTIMEZONE
TZID:America/New_York
BEGIN:DAYLIGHT
TZOFFSETFROM:-0500
TZOFFSETTO:-0400
TZNAME:EDT
DTSTART:20240310T070000
END:DAYLIGHT
BEGIN:STANDARD
TZOFFSETFROM:-0400
TZOFFSETTO:-0500
TZNAME:EST
DTSTART:20241103T060000
END:STANDARD
BEGIN:DAYLIGHT
TZOFFSETFROM:-0500
TZOFFSETTO:-0400
TZNAME:EDT
DTSTART:20250309T070000
END:DAYLIGHT
BEGIN:STANDARD
TZOFFSETFROM:-0400
TZOFFSETTO:-0500
TZNAME:EST
DTSTART:20251102T060000
END:STANDARD
BEGIN:DAYLIGHT
TZOFFSETFROM:-0500
TZOFFSETTO:-0400
TZNAME:EDT
DTSTART:20260308T070000
END:DAYLIGHT
BEGIN:STANDARD
TZOFFSETFROM:-0400
TZOFFSETTO:-0500
TZNAME:EST
DTSTART:20261101T060000
END:STANDARD
END:VTIMEZONE
BEGIN:VEVENT
DTSTART;TZID=America/New_York:20250617T190000
DTEND;TZID=America/New_York:20250617T203000
DTSTAMP:20260425T150707
CREATED:20250530T163311Z
LAST-MODIFIED:20250530T163311Z
UID:10000850-1750186800-1750192200@dbhids.org
SUMMARY:Beyond Expectations: Reclaiming Love – Self\, Brotherhood\, and Community
DESCRIPTION:Beyond Expectations: Reclaiming Love – Self\, Brotherhood\, and Community is a powerful storytelling event hosted by DBHIDS Engaging Males of Color (EMOC) in collaboration with First Person Arts. \nIn a world that often defines men and boys of color by limits rather than potential\, this evening is a radical act of truth-telling\, healing\, and reclamation. Through the transformative art of storytelling\, men of color and community members will share lived experiences centered around three interconnected forms of love: self-love\, love for your brother\, and love for our community. \nThis is not just an event\, it is a gathering of the village. We come together to explore what truly means to love ourselves in a society that often teaches us not to. We affirm the bonds of brotherhood that help us carry one another through struggle and triumph. And we ask the village: how do we love our children\, especially our boys\, so they feel seen\, valued\, and protected? We ground this gathering in the wisdom of the African proverb: “If the child does not feel the warmth of the village\, he will burn it down just to feel it”. This event is not just a Call to Action but a Call to LOVE. \nCLICK TO REGISTER
URL:https://dbhids.org/event/beyond-expectations-reclaiming-love-self-brotherhood-and-community/
LOCATION:Fringe Arts\, 140 N Christopher Columbus Blvd\,\, Philadelphia\, PA\, 19106
CATEGORIES:EMOC
END:VEVENT
END:VCALENDAR