BEGIN:VCALENDAR
VERSION:2.0
PRODID:-//DBHIDS - ECPv6.15.20//NONSGML v1.0//EN
CALSCALE:GREGORIAN
METHOD:PUBLISH
X-ORIGINAL-URL:https://dbhids.org
X-WR-CALDESC:Events for DBHIDS
REFRESH-INTERVAL;VALUE=DURATION:PT1H
X-Robots-Tag:noindex
X-PUBLISHED-TTL:PT1H
BEGIN:VTIMEZONE
TZID:America/New_York
BEGIN:DAYLIGHT
TZOFFSETFROM:-0500
TZOFFSETTO:-0400
TZNAME:EDT
DTSTART:20250309T070000
END:DAYLIGHT
BEGIN:STANDARD
TZOFFSETFROM:-0400
TZOFFSETTO:-0500
TZNAME:EST
DTSTART:20251102T060000
END:STANDARD
BEGIN:DAYLIGHT
TZOFFSETFROM:-0500
TZOFFSETTO:-0400
TZNAME:EDT
DTSTART:20260308T070000
END:DAYLIGHT
BEGIN:STANDARD
TZOFFSETFROM:-0400
TZOFFSETTO:-0500
TZNAME:EST
DTSTART:20261101T060000
END:STANDARD
BEGIN:DAYLIGHT
TZOFFSETFROM:-0500
TZOFFSETTO:-0400
TZNAME:EDT
DTSTART:20270314T070000
END:DAYLIGHT
BEGIN:STANDARD
TZOFFSETFROM:-0400
TZOFFSETTO:-0500
TZNAME:EST
DTSTART:20271107T060000
END:STANDARD
END:VTIMEZONE
BEGIN:VEVENT
DTSTART;TZID=America/New_York:20260502T120000
DTEND;TZID=America/New_York:20260502T160000
DTSTAMP:20260421T042915
CREATED:20260330T152035Z
LAST-MODIFIED:20260330T152035Z
UID:10001291-1777723200-1777737600@dbhids.org
SUMMARY:Save your sight Community Health Fair
DESCRIPTION:Community Health fair on the 5100 block of Walnut Street with food\, health screenings\, resources\, and more!
URL:https://dbhids.org/event/save-your-sight-community-health-fair/
LOCATION:5100 Block of Walnut St\, 5100 Walnut st\, Philadelphia\, 19143
CATEGORIES:DBHIDS
ORGANIZER;CN="State Representative Joanna McClinton":MAILTO:Tmoorewright@pahouse.net
END:VEVENT
END:VCALENDAR