BEGIN:VCALENDAR
VERSION:2.0
PRODID:-//DBHIDS - ECPv6.15.20//NONSGML v1.0//EN
CALSCALE:GREGORIAN
METHOD:PUBLISH
X-ORIGINAL-URL:https://dbhids.org
X-WR-CALDESC:Events for DBHIDS
REFRESH-INTERVAL;VALUE=DURATION:PT1H
X-Robots-Tag:noindex
X-PUBLISHED-TTL:PT1H
BEGIN:VTIMEZONE
TZID:America/New_York
BEGIN:DAYLIGHT
TZOFFSETFROM:-0500
TZOFFSETTO:-0400
TZNAME:EDT
DTSTART:20240310T070000
END:DAYLIGHT
BEGIN:STANDARD
TZOFFSETFROM:-0400
TZOFFSETTO:-0500
TZNAME:EST
DTSTART:20241103T060000
END:STANDARD
BEGIN:DAYLIGHT
TZOFFSETFROM:-0500
TZOFFSETTO:-0400
TZNAME:EDT
DTSTART:20250309T070000
END:DAYLIGHT
BEGIN:STANDARD
TZOFFSETFROM:-0400
TZOFFSETTO:-0500
TZNAME:EST
DTSTART:20251102T060000
END:STANDARD
BEGIN:DAYLIGHT
TZOFFSETFROM:-0500
TZOFFSETTO:-0400
TZNAME:EDT
DTSTART:20260308T070000
END:DAYLIGHT
BEGIN:STANDARD
TZOFFSETFROM:-0400
TZOFFSETTO:-0500
TZNAME:EST
DTSTART:20261101T060000
END:STANDARD
END:VTIMEZONE
BEGIN:VEVENT
DTSTART;TZID=America/New_York:20251117T090000
DTEND;TZID=America/New_York:20251117T150000
DTSTAMP:20260424T154224
CREATED:20251022T203930Z
LAST-MODIFIED:20251023T203738Z
UID:10000976-1763370000-1763391600@dbhids.org
SUMMARY:The Art of Reporting: Changes to the SNAP Rule
DESCRIPTION:DBHIDS invites you to the second “Art of Reporting” – Changes to SNAP Rule\, an informative session designed to help staff\, partners\, and community members understand recent updates to SNAP reporting requirements. \nParticipants will learn how to properly report work earnings and volunteer hours\, complete exemption forms\, and avoid interruptions in SNAP benefits. Presenters will also review changes to SNAP work requirements and share guidance on documenting exclusions and reporting compliance. \nFeatured speakers include: \n\nCommunity Legal Services.\nCommunity Integrated Services.\nBenePhilly.\nCommunity Behavioral Health.\nOffice of Children and Families (OCF).\n\nThe session will begin promptly at 9 a.m.\, followed by a resource fair from noon to 3 p.m.\, during attendees can receive hands-on guidance and information on reporting and exemptions. \nCLICK TO REGISTER \nFor questions\, email taylor.samuels@phila.gov. \n  \n‘Art of Reporting’ – Changes to SNAP Rule \nDate: Nov. 17\nTime: 9 a.m. to 3 p.m.\nLocation: Friends Hospital\, Scattergood Building\, 4641 Roosevelt Blvd.\, Philadelphia 19124
URL:https://dbhids.org/event/the-art-of-reporting-changes-to-the-snap-rule/
LOCATION:Friends Hospital\, 4641 Roosevelt Blvd.\, Philadelphia\, PA
CATEGORIES:DBHIDS
END:VEVENT
END:VCALENDAR