BEGIN:VCALENDAR
VERSION:2.0
PRODID:-//DBHIDS - ECPv6.15.20//NONSGML v1.0//EN
CALSCALE:GREGORIAN
METHOD:PUBLISH
X-ORIGINAL-URL:https://dbhids.org
X-WR-CALDESC:Events for DBHIDS
REFRESH-INTERVAL;VALUE=DURATION:PT1H
X-Robots-Tag:noindex
X-PUBLISHED-TTL:PT1H
BEGIN:VTIMEZONE
TZID:America/New_York
BEGIN:DAYLIGHT
TZOFFSETFROM:-0500
TZOFFSETTO:-0400
TZNAME:EDT
DTSTART:20250309T070000
END:DAYLIGHT
BEGIN:STANDARD
TZOFFSETFROM:-0400
TZOFFSETTO:-0500
TZNAME:EST
DTSTART:20251102T060000
END:STANDARD
BEGIN:DAYLIGHT
TZOFFSETFROM:-0500
TZOFFSETTO:-0400
TZNAME:EDT
DTSTART:20260308T070000
END:DAYLIGHT
BEGIN:STANDARD
TZOFFSETFROM:-0400
TZOFFSETTO:-0500
TZNAME:EST
DTSTART:20261101T060000
END:STANDARD
BEGIN:DAYLIGHT
TZOFFSETFROM:-0500
TZOFFSETTO:-0400
TZNAME:EDT
DTSTART:20270314T070000
END:DAYLIGHT
BEGIN:STANDARD
TZOFFSETFROM:-0400
TZOFFSETTO:-0500
TZNAME:EST
DTSTART:20271107T060000
END:STANDARD
END:VTIMEZONE
BEGIN:VEVENT
DTSTART;TZID=America/New_York:20260318T120000
DTEND;TZID=America/New_York:20260318T130000
DTSTAMP:20260421T042732
CREATED:20260310T184007Z
LAST-MODIFIED:20260310T184007Z
UID:10001281-1773835200-1773838800@dbhids.org
SUMMARY:EWGOC Virtual Wellness Series: Maternal Health\, Mortality\, and Promoting Wellness
DESCRIPTION:Women and girls of color in Philadelphia face significant health disparities driven by social determinants of health including limited access to quality care\, unsafe environments\, financial barriers\, and unequal treatment. These inequities contribute to higher rates of maternal mortality\, chronic disease\, mental and behavioral health challenges\, and increased vulnerability to human trafficking. \nThe Engaging Women and Girls of Color Virtual Wellness Series is a quarterly online event designed to address these gaps by creating a safe\, supportive space for connection\, learning\, and resource sharing. The first session will focus on maternal health and mortality\, offering expert insights\, advocacy strategies\, and practical tools to support the physical and behavioral well‑being of women and girls of color. \nThe first session\, “Maternal Health\, Mortality and Promoting Wellness\,” will take place from noon to 1 p.m. March 18. \nAll are welcome to join this important conversation. \nCLICK TO JOIN \n 
URL:https://dbhids.org/event/ewgoc-virtual-wellness-series-maternal-health-mortality-and-promoting-wellness/
CATEGORIES:DBHIDS,Planning Innovation
END:VEVENT
BEGIN:VEVENT
DTSTART;TZID=America/New_York:20260325T100000
DTEND;TZID=America/New_York:20260325T120000
DTSTAMP:20260421T042732
CREATED:20250822T173350Z
LAST-MODIFIED:20260225T183914Z
UID:10000899-1774432800-1774440000@dbhids.org
SUMMARY:Opioid Overdose Prevention & Narcan Rescue Training
DESCRIPTION:In-Person Training every fourth Wednesday of each month.\nThe City of Philadelphia Department of Behavioral Health and Intellectual disAbility Services is bringing back in-person Opioid Overdose Prevention & Narcan Rescue Training\, a vital\, hands-on session designed to empower people with the skills and knowledge to help save lives. \nIn this training\, you will learn: \n\nThe basics of opioid dependency — for medically prescribed and non-prescribed opioids.\nThe impact of the opioid crisis locally and nationally.\nGood Samaritan laws that protect those who help in an overdose situation.\nPhiladelphia’s coordinated efforts to address the epidemic.\nHow naloxone (Narcan) works to reverse an opioid overdose.\nHow to recognize overdose risk factors and warning signs.\nHow to administer Narcan safely and effectively.
URL:https://dbhids.org/event/opioid-overdose-prevention-narcan-rescue-training/2026-03-25/
LOCATION:801 Market Street\, Philadelphia\, PA 19107\, 801 Market Street\, 11th Floor\, Philadelphia\, 19107
CATEGORIES:DBHIDS
END:VEVENT
BEGIN:VEVENT
DTSTART;TZID=America/New_York:20260326T173000
DTEND;TZID=America/New_York:20260326T190000
DTSTAMP:20260421T042732
CREATED:20260319T151914Z
LAST-MODIFIED:20260319T151914Z
UID:10001286-1774546200-1774551600@dbhids.org
SUMMARY:LGBTQIA+ Youth of Color Listening Session
DESCRIPTION:The DBHIDS Community-Based Initiatives team is proud to host an upcoming LGBTQIA+ Youth of Color listening session in partnership with the Mazzoni Center. \nThis session aims to better understand the unique needs of LGBTQIA+ youth of color in Philadelphia\, foster meaningful connections\, and increase access to services. \nThis session is for people ages 14 to 24 and will create a brave space for youth to share their lived experiences\, challenges\, and aspirations\, particularly around mental and behavioral health. This dialogue will help DBHIDS identify barriers and bridges to well-being\, explore what support they need from providers\, discuss access to resources \, and determine how initiatives like Engaging Males of Color\, Engaging Women & Girls of Color\, and the LGBTQIA+ Initiative can better support. \nPlease share with your networks! \nCLICK TO REGISTER
URL:https://dbhids.org/event/lgbtqia-youth-of-color-listening-session/
LOCATION:Mazzoni Center\, 1348 Bainbridge Street\, Philadelphia\, 19147
CATEGORIES:DBHIDS
ATTACH;FMTTYPE=image/jpeg:https://dbhids.org/wp-content/uploads/2026/03/Listening-Session-Flyer-8.5x11-3-scaled.jpg
END:VEVENT
END:VCALENDAR