BEGIN:VCALENDAR
VERSION:2.0
PRODID:-//DBHIDS - ECPv6.15.20//NONSGML v1.0//EN
CALSCALE:GREGORIAN
METHOD:PUBLISH
X-WR-CALNAME:DBHIDS
X-ORIGINAL-URL:https://dbhids.org
X-WR-CALDESC:Events for DBHIDS
REFRESH-INTERVAL;VALUE=DURATION:PT1H
X-Robots-Tag:noindex
X-PUBLISHED-TTL:PT1H
BEGIN:VTIMEZONE
TZID:America/New_York
BEGIN:DAYLIGHT
TZOFFSETFROM:-0500
TZOFFSETTO:-0400
TZNAME:EDT
DTSTART:20250309T070000
END:DAYLIGHT
BEGIN:STANDARD
TZOFFSETFROM:-0400
TZOFFSETTO:-0500
TZNAME:EST
DTSTART:20251102T060000
END:STANDARD
BEGIN:DAYLIGHT
TZOFFSETFROM:-0500
TZOFFSETTO:-0400
TZNAME:EDT
DTSTART:20260308T070000
END:DAYLIGHT
BEGIN:STANDARD
TZOFFSETFROM:-0400
TZOFFSETTO:-0500
TZNAME:EST
DTSTART:20261101T060000
END:STANDARD
BEGIN:DAYLIGHT
TZOFFSETFROM:-0500
TZOFFSETTO:-0400
TZNAME:EDT
DTSTART:20270314T070000
END:DAYLIGHT
BEGIN:STANDARD
TZOFFSETFROM:-0400
TZOFFSETTO:-0500
TZNAME:EST
DTSTART:20271107T060000
END:STANDARD
END:VTIMEZONE
BEGIN:VEVENT
DTSTART;TZID=America/New_York:20260422T100000
DTEND;TZID=America/New_York:20260422T120000
DTSTAMP:20260419T100856
CREATED:20250822T173350Z
LAST-MODIFIED:20260225T183914Z
UID:10001263-1776852000-1776859200@dbhids.org
SUMMARY:Opioid Overdose Prevention & Narcan Rescue Training
DESCRIPTION:In-Person Training every fourth Wednesday of each month.\nThe City of Philadelphia Department of Behavioral Health and Intellectual disAbility Services is bringing back in-person Opioid Overdose Prevention & Narcan Rescue Training\, a vital\, hands-on session designed to empower people with the skills and knowledge to help save lives. \nIn this training\, you will learn: \n\nThe basics of opioid dependency — for medically prescribed and non-prescribed opioids.\nThe impact of the opioid crisis locally and nationally.\nGood Samaritan laws that protect those who help in an overdose situation.\nPhiladelphia’s coordinated efforts to address the epidemic.\nHow naloxone (Narcan) works to reverse an opioid overdose.\nHow to recognize overdose risk factors and warning signs.\nHow to administer Narcan safely and effectively.
URL:https://dbhids.org/event/opioid-overdose-prevention-narcan-rescue-training/2026-04-22/
LOCATION:801 Market Street\, Philadelphia\, PA 19107\, 801 Market Street\, 11th Floor\, Philadelphia\, 19107
CATEGORIES:DBHIDS
END:VEVENT
BEGIN:VEVENT
DTSTART;TZID=America/New_York:20260422T140000
DTEND;TZID=America/New_York:20260422T160000
DTSTAMP:20260419T100856
CREATED:20260306T130618Z
LAST-MODIFIED:20260306T200042Z
UID:10001271-1776866400-1776873600@dbhids.org
SUMMARY:DBHIDS Immigrant/Refugee Wellness Academy (IRWA)
DESCRIPTION:The City of Philadelphia Department of Behavioral Health and Intellectual disAbility Services (DBHIDS) is excited to launch its fourth cohort of the Immigrant/Refugee Wellness Academy. IRWA is a free certificate training program designed to empower and prepare Philadelphia’s multilingual/multicultural immigrants and refugees with the knowledge\, resources\, and tools to engage in activities that address the mental health and behavioral challenges experienced by local immigrant and refugee communities. \nThe program will enhance participants’ leadership skills\, increase knowledge about behavioral health and intellectual disability challenges\, and empower graduates with the tools to access local resources for themselves and their communities. These interactive sessions reinforce collaborative learning through presentations\, discussion activities\, and meaningful dialogue to build personal and community resilience and wellness. \nIRWA will run Wednesdays from April 15 to June 17. It consists of an orientation\, eight sessions\, and a graduation ceremony. IRWA is offered in person and through virtual sessions. Standard sessions will run from 2 to 4 p.m. There will also be two special sessions: Mental Health Interpretation\, which will last four hours\, and Mental Health First Aid\, is an all-day session. \nFor questions\, email Sarorng Sorn at Sarorng.sorn@phila.gov or Kori White at Kori.white@phila.gov. \nCLICK TO APPLY
URL:https://dbhids.org/event/dbhids-immigrant-refugee-wellness-academy-irwa/2026-04-22/
CATEGORIES:DBHIDS
ATTACH;FMTTYPE=image/jpeg:https://dbhids.org/wp-content/uploads/2026/03/IRWA-Grad-2023.jpg
END:VEVENT
BEGIN:VEVENT
DTSTART;TZID=America/New_York:20260428T180000
DTEND;TZID=America/New_York:20260428T200000
DTSTAMP:20260419T100856
CREATED:20260416T134814Z
LAST-MODIFIED:20260416T134814Z
UID:10001294-1777399200-1777406400@dbhids.org
SUMMARY:Earth & Mind: Rooted in Connection
DESCRIPTION:You’re invited to join Young Professional Leaders for “Earth & Mind: Rooted in Connection\,” a special Earth Month gathering centered on nature\, mental health\, and community. We’ll come together for a brief conversation on the connection between mental wellness and the natural world followed by a hands-on craft activity. It will be a chance to connect\, learn\, and build community in a relaxed and welcoming space. \nClick to RSVP for Earth & Mind: Rooted in Connection \nWe’d love to see you there!
URL:https://dbhids.org/event/earth-mind-rooted-in-connection/
LOCATION:Jefferson Health Plans Wellness Center\, 6232 Market St\, Philadelphia\, 19139
ORGANIZER;CN="NAMI Philadelphia":MAILTO:info@namiphilly.org
END:VEVENT
BEGIN:VEVENT
DTSTART;TZID=America/New_York:20260429T140000
DTEND;TZID=America/New_York:20260429T160000
DTSTAMP:20260419T100856
CREATED:20260306T130618Z
LAST-MODIFIED:20260306T200042Z
UID:10001272-1777471200-1777478400@dbhids.org
SUMMARY:DBHIDS Immigrant/Refugee Wellness Academy (IRWA)
DESCRIPTION:The City of Philadelphia Department of Behavioral Health and Intellectual disAbility Services (DBHIDS) is excited to launch its fourth cohort of the Immigrant/Refugee Wellness Academy. IRWA is a free certificate training program designed to empower and prepare Philadelphia’s multilingual/multicultural immigrants and refugees with the knowledge\, resources\, and tools to engage in activities that address the mental health and behavioral challenges experienced by local immigrant and refugee communities. \nThe program will enhance participants’ leadership skills\, increase knowledge about behavioral health and intellectual disability challenges\, and empower graduates with the tools to access local resources for themselves and their communities. These interactive sessions reinforce collaborative learning through presentations\, discussion activities\, and meaningful dialogue to build personal and community resilience and wellness. \nIRWA will run Wednesdays from April 15 to June 17. It consists of an orientation\, eight sessions\, and a graduation ceremony. IRWA is offered in person and through virtual sessions. Standard sessions will run from 2 to 4 p.m. There will also be two special sessions: Mental Health Interpretation\, which will last four hours\, and Mental Health First Aid\, is an all-day session. \nFor questions\, email Sarorng Sorn at Sarorng.sorn@phila.gov or Kori White at Kori.white@phila.gov. \nCLICK TO APPLY
URL:https://dbhids.org/event/dbhids-immigrant-refugee-wellness-academy-irwa/2026-04-29/
CATEGORIES:DBHIDS
ATTACH;FMTTYPE=image/jpeg:https://dbhids.org/wp-content/uploads/2026/03/IRWA-Grad-2023.jpg
END:VEVENT
BEGIN:VEVENT
DTSTART;TZID=America/New_York:20260430T090000
DTEND;TZID=America/New_York:20260430T160000
DTSTAMP:20260419T100856
CREATED:20260211T144917Z
LAST-MODIFIED:20260414T172246Z
UID:10001257-1777539600-1777564800@dbhids.org
SUMMARY:Faith and Spiritual Affairs Conference
DESCRIPTION:Registration is now open for the 19th annual Faith and Spiritual Affairs Conference. The in-person event will take place from 9 a.m. to 4 p.m. April 30 at the Hilton City Avenue\, 4200 City Ave.\, Philadelphia 19131. \nThe City of Philadelphia Department of Behavioral Health and Intellectual disAbility Services will host the conference focused\, this year\, under the theme: “Anchored in Faith: Building Resilience\, Hope\, and Community.” The conference will explore how faith and spirituality can help address loneliness\, isolation\, and the effects of grief and loss. \nJoin us for: \n\nMulti-perspective panel discussions.\nDynamic workshops.\nHelpful resources.\nLive entertainment from Beyond the Bars\n\nContinental breakfast will be provided from 8 to 9 a.m. \nFor more information\, email DBHIDS-FSA@phila.gov. \nRegister for the Faith and Spiritual Affairs Conference.
URL:https://dbhids.org/event/faith-and-spiritual-affairs-conference/
LOCATION:Hilton City Ave\, 4200 City Ave\, Philadelphia\, 19131
CATEGORIES:Faith and Spiritual Affairs
END:VEVENT
END:VCALENDAR